BEGIN:VCALENDAR
VERSION:2.0
PRODID:-//Korsør Lystfiskerforening - ECPv6.15.20//NONSGML v1.0//EN
CALSCALE:GREGORIAN
METHOD:PUBLISH
X-WR-CALNAME:Korsør Lystfiskerforening
X-ORIGINAL-URL:https://korsoer-lystfiskerforening.dk
X-WR-CALDESC:Events for Korsør Lystfiskerforening
REFRESH-INTERVAL;VALUE=DURATION:PT1H
X-Robots-Tag:noindex
X-PUBLISHED-TTL:PT1H
BEGIN:VTIMEZONE
TZID:Europe/Helsinki
BEGIN:DAYLIGHT
TZOFFSETFROM:+0200
TZOFFSETTO:+0300
TZNAME:EEST
DTSTART:20250330T010000
END:DAYLIGHT
BEGIN:STANDARD
TZOFFSETFROM:+0300
TZOFFSETTO:+0200
TZNAME:EET
DTSTART:20251026T010000
END:STANDARD
BEGIN:DAYLIGHT
TZOFFSETFROM:+0200
TZOFFSETTO:+0300
TZNAME:EEST
DTSTART:20260329T010000
END:DAYLIGHT
BEGIN:STANDARD
TZOFFSETFROM:+0300
TZOFFSETTO:+0200
TZNAME:EET
DTSTART:20261025T010000
END:STANDARD
BEGIN:DAYLIGHT
TZOFFSETFROM:+0200
TZOFFSETTO:+0300
TZNAME:EEST
DTSTART:20270328T010000
END:DAYLIGHT
BEGIN:STANDARD
TZOFFSETFROM:+0300
TZOFFSETTO:+0200
TZNAME:EET
DTSTART:20271031T010000
END:STANDARD
END:VTIMEZONE
BEGIN:VEVENT
DTSTART;TZID=Europe/Helsinki:20260602T190000
DTEND;TZID=Europe/Helsinki:20260602T233000
DTSTAMP:20260422T193241
CREATED:20260111T124803Z
LAST-MODIFIED:20260111T124803Z
UID:7245-1780426800-1780443000@korsoer-lystfiskerforening.dk
SUMMARY:Tirsdagsfiskerne - aften
DESCRIPTION:Hvis du vil vide mere on Tirsdagfiskerne så kig under aktiviteter \nTirsdagsfiskerne
URL:https://korsoer-lystfiskerforening.dk/event/tirsdagsfiskerne-aften-33/
CATEGORIES:@ kl.19-,Tirsdagfiskerne
END:VEVENT
BEGIN:VEVENT
DTSTART;TZID=Europe/Helsinki:20260609T190000
DTEND;TZID=Europe/Helsinki:20260609T233000
DTSTAMP:20260422T193241
CREATED:20260111T125208Z
LAST-MODIFIED:20260111T125208Z
UID:7254-1781031600-1781047800@korsoer-lystfiskerforening.dk
SUMMARY:Tirsdagsfiskerne - aften
DESCRIPTION:Hvis du vil vide mere on Tirsdagfiskerne så kig under aktiviteter \nTirsdagsfiskerne
URL:https://korsoer-lystfiskerforening.dk/event/tirsdagsfiskerne-aften-34/
CATEGORIES:@ kl.19-,Tirsdagfiskerne
END:VEVENT
BEGIN:VEVENT
DTSTART;TZID=Europe/Helsinki:20260616T190000
DTEND;TZID=Europe/Helsinki:20260616T233000
DTSTAMP:20260422T193241
CREATED:20260111T130024Z
LAST-MODIFIED:20260111T130024Z
UID:7266-1781636400-1781652600@korsoer-lystfiskerforening.dk
SUMMARY:Tirsdagsfiskerne - aften
DESCRIPTION:Hvis du vil vide mere on Tirsdagfiskerne så kig under aktiviteter \nTirsdagsfiskerne
URL:https://korsoer-lystfiskerforening.dk/event/tirsdagsfiskerne-aften-35/
CATEGORIES:@ kl.19-,Tirsdagfiskerne
END:VEVENT
BEGIN:VEVENT
DTSTART;TZID=Europe/Helsinki:20260623T190000
DTEND;TZID=Europe/Helsinki:20260623T233000
DTSTAMP:20260422T193241
CREATED:20260111T130457Z
LAST-MODIFIED:20260111T130457Z
UID:7275-1782241200-1782257400@korsoer-lystfiskerforening.dk
SUMMARY:Tirsdagsfiskerne - aften
DESCRIPTION:
URL:https://korsoer-lystfiskerforening.dk/event/tirsdagsfiskerne-aften-36/
CATEGORIES:@ kl.19-,Tirsdagfiskerne
END:VEVENT
END:VCALENDAR