BEGIN:VCALENDAR
VERSION:2.0
PRODID:-//Korsør Lystfiskerforening - ECPv6.15.20//NONSGML v1.0//EN
CALSCALE:GREGORIAN
METHOD:PUBLISH
X-ORIGINAL-URL:https://korsoer-lystfiskerforening.dk
X-WR-CALDESC:Events for Korsør Lystfiskerforening
REFRESH-INTERVAL;VALUE=DURATION:PT1H
X-Robots-Tag:noindex
X-PUBLISHED-TTL:PT1H
BEGIN:VTIMEZONE
TZID:Europe/Helsinki
BEGIN:DAYLIGHT
TZOFFSETFROM:+0200
TZOFFSETTO:+0300
TZNAME:EEST
DTSTART:20250330T010000
END:DAYLIGHT
BEGIN:STANDARD
TZOFFSETFROM:+0300
TZOFFSETTO:+0200
TZNAME:EET
DTSTART:20251026T010000
END:STANDARD
BEGIN:DAYLIGHT
TZOFFSETFROM:+0200
TZOFFSETTO:+0300
TZNAME:EEST
DTSTART:20260329T010000
END:DAYLIGHT
BEGIN:STANDARD
TZOFFSETFROM:+0300
TZOFFSETTO:+0200
TZNAME:EET
DTSTART:20261025T010000
END:STANDARD
BEGIN:DAYLIGHT
TZOFFSETFROM:+0200
TZOFFSETTO:+0300
TZNAME:EEST
DTSTART:20270328T010000
END:DAYLIGHT
BEGIN:STANDARD
TZOFFSETFROM:+0300
TZOFFSETTO:+0200
TZNAME:EET
DTSTART:20271031T010000
END:STANDARD
END:VTIMEZONE
BEGIN:VEVENT
DTSTART;TZID=Europe/Helsinki:20260512T190000
DTEND;TZID=Europe/Helsinki:20260512T233000
DTSTAMP:20260422T181512
CREATED:20251202T170347Z
LAST-MODIFIED:20251202T170347Z
UID:7174-1778612400-1778628600@korsoer-lystfiskerforening.dk
SUMMARY:Tirsdagsfiskerne - aften
DESCRIPTION:
URL:https://korsoer-lystfiskerforening.dk/event/tirsdagsfiskerne-aften-31/
CATEGORIES:@ kl.19-,Tirsdagfiskerne
END:VEVENT
BEGIN:VEVENT
DTSTART;TZID=Europe/Helsinki:20260519T190000
DTEND;TZID=Europe/Helsinki:20260519T233000
DTSTAMP:20260422T181512
CREATED:20251202T170645Z
LAST-MODIFIED:20251202T170645Z
UID:7180-1779217200-1779233400@korsoer-lystfiskerforening.dk
SUMMARY:Tirsdagsfiskerne - aften
DESCRIPTION:
URL:https://korsoer-lystfiskerforening.dk/event/tirsdagsfiskerne-aften-32/
CATEGORIES:@ kl.19-,Tirsdagfiskerne
END:VEVENT
BEGIN:VEVENT
DTSTART;TZID=Europe/Helsinki:20260526T190000
DTEND;TZID=Europe/Helsinki:20260526T233000
DTSTAMP:20260422T181512
CREATED:20251202T170958Z
LAST-MODIFIED:20251202T171216Z
UID:7186-1779822000-1779838200@korsoer-lystfiskerforening.dk
SUMMARY:Tirsdagsfiskerne - aften
DESCRIPTION:Hvis du vil vide mere on Tirsdagfiskerne så kig under aktiviteter \nTirsdagsfiskerne \n \n 
URL:https://korsoer-lystfiskerforening.dk/event/tirsdagsfiskerne-84/
CATEGORIES:@ kl.19-,Tirsdagfiskerne
END:VEVENT
END:VCALENDAR