BEGIN:VCALENDAR
VERSION:2.0
PRODID:-//Korsør Lystfiskerforening - ECPv6.15.20//NONSGML v1.0//EN
CALSCALE:GREGORIAN
METHOD:PUBLISH
X-WR-CALNAME:Korsør Lystfiskerforening
X-ORIGINAL-URL:https://korsoer-lystfiskerforening.dk
X-WR-CALDESC:Events for Korsør Lystfiskerforening
REFRESH-INTERVAL;VALUE=DURATION:PT1H
X-Robots-Tag:noindex
X-PUBLISHED-TTL:PT1H
BEGIN:VTIMEZONE
TZID:Europe/Helsinki
BEGIN:DAYLIGHT
TZOFFSETFROM:+0200
TZOFFSETTO:+0300
TZNAME:EEST
DTSTART:20250330T010000
END:DAYLIGHT
BEGIN:STANDARD
TZOFFSETFROM:+0300
TZOFFSETTO:+0200
TZNAME:EET
DTSTART:20251026T010000
END:STANDARD
BEGIN:DAYLIGHT
TZOFFSETFROM:+0200
TZOFFSETTO:+0300
TZNAME:EEST
DTSTART:20260329T010000
END:DAYLIGHT
BEGIN:STANDARD
TZOFFSETFROM:+0300
TZOFFSETTO:+0200
TZNAME:EET
DTSTART:20261025T010000
END:STANDARD
BEGIN:DAYLIGHT
TZOFFSETFROM:+0200
TZOFFSETTO:+0300
TZNAME:EEST
DTSTART:20270328T010000
END:DAYLIGHT
BEGIN:STANDARD
TZOFFSETFROM:+0300
TZOFFSETTO:+0200
TZNAME:EET
DTSTART:20271031T010000
END:STANDARD
END:VTIMEZONE
BEGIN:VEVENT
DTSTART;TZID=Europe/Helsinki:20260421T080000
DTEND;TZID=Europe/Helsinki:20260421T170000
DTSTAMP:20260421T143315
CREATED:20251202T164853Z
LAST-MODIFIED:20260407T154801Z
UID:7634-1776758400-1776790800@korsoer-lystfiskerforening.dk
SUMMARY:Udsætning af smolt i Tude Å 21. april 2026 og efterfølgende dage med SMOLTVAGT.
DESCRIPTION:21. april udsætter UFV95 smolt i mundingen af Tude Å. Udsætningen foregår direkte fra den\ntankvogn\, som har transporteret fiskene fra dambruget i Hvilested.\nDet bliver i dagene efter udsætningen nødvendigt at indføre ”Smoltvagt” langs den nederste\ndel af åen\, så vi undgår\, at skarven og mågerne æder alle vores nye små ørreder.\n3\nKorsør Lystfiskerforening stiller selvfølgelig op her og du kan fra nettet downloade den smarte\napp ”SMOLTVAGT” og her finde detaljer og vagtplaner for Tude Å.\nOpret din/dine vagter gerne sammen med en kammerat og vær med til at sikre den bedst\nmulige overlevelse for de små skønheder.\nHvis du vil vide mere om SMOLTVAGT er du velkommen til at kontakte:\nJesper Thykjær på tlf./sms 42807500 eller mail seatrout@outlook.dk\nBestyrelsen og UVF95 takker på forhånd for din assistance.\nMere info tilmelding til SMOLTVAGT sidst i denne mail. \nLæs mere i nyhedsbrevet \n 
URL:https://korsoer-lystfiskerforening.dk/event/udsaetning-af-smolt-i-tude-a-21-april-2026-og-efterfolgende-dage-med-smoltvagt/
CATEGORIES:Information,UFV
END:VEVENT
BEGIN:VEVENT
DTSTART;TZID=Europe/Helsinki:20260421T090000
DTEND;TZID=Europe/Helsinki:20260421T130000
DTSTAMP:20260421T143315
CREATED:20251202T164902Z
LAST-MODIFIED:20251202T164902Z
UID:7147-1776762000-1776776400@korsoer-lystfiskerforening.dk
SUMMARY:Tirsdagsfiskerne
DESCRIPTION:Hvis du vil vide mere on Tirsdagfiskerne så kig under aktiviteter \nTirsdagsfiskerne
URL:https://korsoer-lystfiskerforening.dk/event/tirsdagsfiskerne-82/
CATEGORIES:@ kl. 9-13,Tirsdagfiskerne
END:VEVENT
END:VCALENDAR